Package: tidyCoverage Version: 1.2.0 Command: /Library/Frameworks/R.framework/Resources/bin/R CMD INSTALL tidyCoverage StartedAt: 2024-11-19 15:17:23 -0500 (Tue, 19 Nov 2024) EndedAt: 2024-11-19 15:18:10 -0500 (Tue, 19 Nov 2024) EllapsedTime: 47.3 seconds RetCode: 0 Status: OK