Package: tidyCoverage Version: 1.2.0 Command: /Library/Frameworks/R.framework/Resources/bin/R CMD INSTALL tidyCoverage StartedAt: 2025-03-31 15:55:10 -0400 (Mon, 31 Mar 2025) EndedAt: 2025-03-31 15:55:50 -0400 (Mon, 31 Mar 2025) EllapsedTime: 40.0 seconds RetCode: 0 Status: OK