Package: tidyCoverage Version: 1.2.0 Command: /Library/Frameworks/R.framework/Resources/bin/R CMD check --install=check:tidyCoverage.install-out.txt --library=/Library/Frameworks/R.framework/Resources/library --no-vignettes --timings tidyCoverage_1.2.0.tar.gz StartedAt: 2025-04-02 11:19:48 -0400 (Wed, 02 Apr 2025) EndedAt: 2025-04-02 11:25:44 -0400 (Wed, 02 Apr 2025) EllapsedTime: 356.1 seconds RetCode: 0 Status: OK CheckDir: tidyCoverage.Rcheck Warnings: 0