Package: terraTCGAdata Version: 1.10.0 Command: /home/biocbuild/R/R/bin/R CMD INSTALL terraTCGAdata StartedAt: 2025-03-31 20:43:37 -0000 (Mon, 31 Mar 2025) EndedAt: 2025-03-31 20:44:08 -0000 (Mon, 31 Mar 2025) EllapsedTime: 31.3 seconds RetCode: 0 Status: OK