Package: terraTCGAdata Version: 1.10.0 Command: rm -rf terraTCGAdata.buildbin-libdir && mkdir terraTCGAdata.buildbin-libdir && F:\biocbuild\bbs-3.20-bioc\R\bin\R.exe CMD INSTALL --build --library=terraTCGAdata.buildbin-libdir terraTCGAdata_1.10.0.tar.gz StartedAt: 2025-04-01 09:23:01 -0400 (Tue, 01 Apr 2025) EndedAt: 2025-04-01 09:23:40 -0400 (Tue, 01 Apr 2025) EllapsedTime: 39.6 seconds RetCode: 0 Status: OK PackageFile: terraTCGAdata_1.10.0.zip PackageFileSize: 278.1 KiB