Package: terraTCGAdata Version: 1.10.0 Command: /Library/Frameworks/R.framework/Resources/bin/R CMD INSTALL terraTCGAdata StartedAt: 2025-01-27 16:00:09 -0500 (Mon, 27 Jan 2025) EndedAt: 2025-01-27 16:01:02 -0500 (Mon, 27 Jan 2025) EllapsedTime: 53.4 seconds RetCode: 0 Status: OK