Package: terraTCGAdata Version: 1.10.0 Command: /Library/Frameworks/R.framework/Resources/bin/R CMD build --keep-empty-dirs --no-resave-data terraTCGAdata StartedAt: 2025-03-31 22:33:33 -0400 (Mon, 31 Mar 2025) EndedAt: 2025-03-31 22:34:46 -0400 (Mon, 31 Mar 2025) EllapsedTime: 73.3 seconds RetCode: 0 Status: OK PackageFile: terraTCGAdata_1.10.0.tar.gz PackageFileSize: 234.1 KiB