Package: terraTCGAdata Version: 1.10.0 Command: /Library/Frameworks/R.framework/Resources/bin/R CMD INSTALL terraTCGAdata StartedAt: 2024-11-08 15:31:44 -0500 (Fri, 08 Nov 2024) EndedAt: 2024-11-08 15:31:54 -0500 (Fri, 08 Nov 2024) EllapsedTime: 9.8 seconds RetCode: 0 Status: OK