Package: terraTCGAdata Version: 1.10.0 Command: /Library/Frameworks/R.framework/Resources/bin/R CMD check --install=check:terraTCGAdata.install-out.txt --library=/Library/Frameworks/R.framework/Resources/library --no-vignettes --timings terraTCGAdata_1.10.0.tar.gz StartedAt: 2025-01-29 11:31:11 -0500 (Wed, 29 Jan 2025) EndedAt: 2025-01-29 11:34:48 -0500 (Wed, 29 Jan 2025) EllapsedTime: 216.7 seconds RetCode: 0 Status: OK CheckDir: terraTCGAdata.Rcheck Warnings: 0