Package: terraTCGAdata Version: 1.10.0 Command: /Library/Frameworks/R.framework/Resources/bin/R CMD build --keep-empty-dirs --no-resave-data terraTCGAdata StartedAt: 2025-01-28 09:22:58 -0500 (Tue, 28 Jan 2025) EndedAt: 2025-01-28 09:23:45 -0500 (Tue, 28 Jan 2025) EllapsedTime: 46.6 seconds RetCode: 0 Status: OK PackageFile: terraTCGAdata_1.10.0.tar.gz PackageFileSize: 234.2 KiB