Package: ternarynet Version: 1.50.0 Command: /home/biocbuild/R/R/bin/R CMD build --keep-empty-dirs --no-resave-data ternarynet StartedAt: 2025-01-28 03:48:00 -0000 (Tue, 28 Jan 2025) EndedAt: 2025-01-28 03:48:15 -0000 (Tue, 28 Jan 2025) EllapsedTime: 15.0 seconds RetCode: 0 Status: OK PackageFile: ternarynet_1.50.0.tar.gz PackageFileSize: 259.5 KiB