Package: tenXplore Version: 1.28.0 Command: /home/biocbuild/R/R/bin/R CMD build --keep-empty-dirs --no-resave-data tenXplore StartedAt: 2025-02-11 03:04:10 -0000 (Tue, 11 Feb 2025) EndedAt: 2025-02-11 03:05:06 -0000 (Tue, 11 Feb 2025) EllapsedTime: 56.0 seconds RetCode: 0 Status: OK PackageFile: tenXplore_1.28.0.tar.gz PackageFileSize: 2.457 MiB