Package: tenXplore Version: 1.28.0 Command: F:\biocbuild\bbs-3.20-bioc\R\bin\R.exe CMD INSTALL tenXplore StartedAt: 2025-02-10 16:15:40 -0500 (Mon, 10 Feb 2025) EndedAt: 2025-02-10 16:16:15 -0500 (Mon, 10 Feb 2025) EllapsedTime: 35.3 seconds RetCode: 0 Status: OK