Package: tenXplore Version: 1.28.0 Command: F:\biocbuild\bbs-3.20-bioc\R\bin\R.exe CMD check --no-multiarch --install=check:tenXplore.install-out.txt --library=F:\biocbuild\bbs-3.20-bioc\R\library --no-vignettes --timings tenXplore_1.28.0.tar.gz StartedAt: 2025-02-11 06:55:12 -0500 (Tue, 11 Feb 2025) EndedAt: 2025-02-11 07:00:33 -0500 (Tue, 11 Feb 2025) EllapsedTime: 320.5 seconds RetCode: 0 Status: OK CheckDir: tenXplore.Rcheck Warnings: 0