Package: tenXplore Version: 1.28.0 Command: chmod a+r tenXplore -R && F:\biocbuild\bbs-3.20-bioc\R\bin\R.exe CMD build --keep-empty-dirs --no-resave-data tenXplore StartedAt: 2025-02-10 22:28:58 -0500 (Mon, 10 Feb 2025) EndedAt: 2025-02-10 22:29:55 -0500 (Mon, 10 Feb 2025) EllapsedTime: 57.0 seconds RetCode: 0 Status: OK PackageFile: tenXplore_1.28.0.tar.gz PackageFileSize: 2.433 MiB