Package: tenXplore Version: 1.28.0 Command: /home/biocbuild/bbs-3.20-bioc/R/bin/R CMD INSTALL tenXplore StartedAt: 2025-02-10 15:41:38 -0500 (Mon, 10 Feb 2025) EndedAt: 2025-02-10 15:42:09 -0500 (Mon, 10 Feb 2025) EllapsedTime: 30.1 seconds RetCode: 0 Status: OK