Package: tenXplore Version: 1.28.0 Command: rm -rf tenXplore.buildbin-libdir && mkdir tenXplore.buildbin-libdir && /Users/biocbuild/BBS/utils/build-universal.sh tenXplore_1.28.0.tar.gz /Library/Frameworks/R.framework/Resources/bin/R tenXplore.buildbin-libdir StartedAt: 2025-02-11 14:42:13 -0500 (Tue, 11 Feb 2025) EndedAt: 2025-02-11 14:43:29 -0500 (Tue, 11 Feb 2025) EllapsedTime: 76.7 seconds RetCode: 0 Status: OK PackageFile: tenXplore_1.28.0.tgz PackageFileSize: 2.181 MiB