Package: tenXplore Version: 1.28.0 Command: /Library/Frameworks/R.framework/Resources/bin/R CMD build --keep-empty-dirs --no-resave-data tenXplore StartedAt: 2025-02-11 09:33:15 -0500 (Tue, 11 Feb 2025) EndedAt: 2025-02-11 09:34:14 -0500 (Tue, 11 Feb 2025) EllapsedTime: 58.6 seconds RetCode: 0 Status: OK PackageFile: tenXplore_1.28.0.tar.gz PackageFileSize: 2.433 MiB