Package: target Version: 1.20.0 Command: /home/biocbuild/R/R/bin/R CMD INSTALL target StartedAt: 2025-01-27 21:56:10 -0000 (Mon, 27 Jan 2025) EndedAt: 2025-01-27 21:56:24 -0000 (Mon, 27 Jan 2025) EllapsedTime: 13.8 seconds RetCode: 0 Status: OK