Package: target Version: 1.20.0 Command: F:\biocbuild\bbs-3.20-bioc\R\bin\R.exe CMD INSTALL target StartedAt: 2025-01-27 16:53:33 -0500 (Mon, 27 Jan 2025) EndedAt: 2025-01-27 16:53:50 -0500 (Mon, 27 Jan 2025) EllapsedTime: 17.2 seconds RetCode: 0 Status: OK