Package: target Version: 1.20.0 Command: /home/biocbuild/bbs-3.20-bioc/R/bin/R CMD INSTALL target StartedAt: 2025-02-03 16:02:59 -0500 (Mon, 03 Feb 2025) EndedAt: 2025-02-03 16:03:10 -0500 (Mon, 03 Feb 2025) EllapsedTime: 11.6 seconds RetCode: 0 Status: OK