Package: target Version: 1.20.0 Command: /home/biocbuild/bbs-3.20-bioc/R/bin/R CMD build --keep-empty-dirs --no-resave-data --md5 target StartedAt: 2025-02-03 19:35:59 -0500 (Mon, 03 Feb 2025) EndedAt: 2025-02-03 19:36:42 -0500 (Mon, 03 Feb 2025) EllapsedTime: 43.1 seconds RetCode: 0 Status: OK PackageFile: target_1.20.0.tar.gz PackageFileSize: 3.098 MiB