Package: target Version: 1.20.0 Command: /Library/Frameworks/R.framework/Resources/bin/R CMD check --install=check:target.install-out.txt --library=/Library/Frameworks/R.framework/Resources/library --no-vignettes --timings target_1.20.0.tar.gz StartedAt: 2025-01-28 11:18:02 -0500 (Tue, 28 Jan 2025) EndedAt: 2025-01-28 11:20:59 -0500 (Tue, 28 Jan 2025) EllapsedTime: 177.7 seconds RetCode: 0 Status: OK CheckDir: target.Rcheck Warnings: 0