Package: tanggle Version: 1.12.0 Command: /home/biocbuild/bbs-3.20-bioc/R/bin/R CMD check --install=check:tanggle.install-out.txt --library=/home/biocbuild/bbs-3.20-bioc/R/site-library --timings tanggle_1.12.0.tar.gz StartedAt: 2025-04-01 02:50:36 -0400 (Tue, 01 Apr 2025) EndedAt: 2025-04-01 02:51:31 -0400 (Tue, 01 Apr 2025) EllapsedTime: 55.2 seconds RetCode: 0 Status: OK CheckDir: tanggle.Rcheck Warnings: 0