Package: tanggle Version: 1.12.0 Command: rm -rf tanggle.buildbin-libdir && mkdir tanggle.buildbin-libdir && /Users/biocbuild/BBS/utils/build-universal.sh tanggle_1.12.0.tar.gz /Library/Frameworks/R.framework/Resources/bin/R tanggle.buildbin-libdir StartedAt: 2025-01-28 14:45:02 -0500 (Tue, 28 Jan 2025) EndedAt: 2025-01-28 14:45:19 -0500 (Tue, 28 Jan 2025) EllapsedTime: 16.8 seconds RetCode: 0 Status: OK PackageFile: tanggle_1.12.0.tgz PackageFileSize: 1.911 MiB