Package: tadar Version: 1.4.0 Command: /home/biocbuild/R/R/bin/R CMD INSTALL tadar StartedAt: 2025-02-03 20:58:56 -0000 (Mon, 03 Feb 2025) EndedAt: 2025-02-03 20:59:56 -0000 (Mon, 03 Feb 2025) EllapsedTime: 60.8 seconds RetCode: 0 Status: OK