Package: tadar Version: 1.4.0 Command: rm -rf tadar.buildbin-libdir && mkdir tadar.buildbin-libdir && /Users/biocbuild/BBS/utils/build-universal.sh tadar_1.4.0.tar.gz /Library/Frameworks/R.framework/Resources/bin/R tadar.buildbin-libdir StartedAt: 2025-01-28 14:44:58 -0500 (Tue, 28 Jan 2025) EndedAt: 2025-01-28 14:47:11 -0500 (Tue, 28 Jan 2025) EllapsedTime: 133.6 seconds RetCode: 0 Status: OK PackageFile: tadar_1.4.0.tgz PackageFileSize: 1.488 MiB