Package: tadar Version: 1.4.0 Command: rm -rf tadar.buildbin-libdir && mkdir tadar.buildbin-libdir && /Users/biocbuild/BBS/utils/build-universal.sh tadar_1.4.0.tar.gz /Library/Frameworks/R.framework/Resources/bin/R tadar.buildbin-libdir StartedAt: 2024-11-09 17:15:01 -0500 (Sat, 09 Nov 2024) EndedAt: 2024-11-09 17:15:22 -0500 (Sat, 09 Nov 2024) EllapsedTime: 21.4 seconds RetCode: 0 Status: OK PackageFile: tadar_1.4.0.tgz PackageFileSize: 1.49 MiB