Package: tadar Version: 1.4.0 Command: /Library/Frameworks/R.framework/Resources/bin/R CMD INSTALL tadar StartedAt: 2025-02-03 16:42:18 -0500 (Mon, 03 Feb 2025) EndedAt: 2025-02-03 16:43:15 -0500 (Mon, 03 Feb 2025) EllapsedTime: 57.3 seconds RetCode: 0 Status: OK