Package: tRanslatome Version: 1.44.0 Command: /home/biocbuild/R/R/bin/R CMD build --keep-empty-dirs --no-resave-data tRanslatome StartedAt: 2025-02-04 03:38:06 -0000 (Tue, 04 Feb 2025) EndedAt: 2025-02-04 03:40:15 -0000 (Tue, 04 Feb 2025) EllapsedTime: 129.2 seconds RetCode: 0 Status: OK PackageFile: tRanslatome_1.44.0.tar.gz PackageFileSize: 929 KiB