Package: tRanslatome Version: 1.44.0 Command: F:\biocbuild\bbs-3.20-bioc\R\bin\R.exe CMD check --no-multiarch --install=check:tRanslatome.install-out.txt --library=F:\biocbuild\bbs-3.20-bioc\R\library --no-vignettes --timings tRanslatome_1.44.0.tar.gz StartedAt: 2025-01-28 06:51:52 -0500 (Tue, 28 Jan 2025) EndedAt: 2025-01-28 06:57:49 -0500 (Tue, 28 Jan 2025) EllapsedTime: 357.7 seconds RetCode: 0 Status: OK CheckDir: tRanslatome.Rcheck Warnings: 0