Package: tRanslatome Version: 1.44.0 Command: /home/biocbuild/bbs-3.20-bioc/R/bin/R CMD INSTALL tRanslatome StartedAt: 2025-01-27 16:40:02 -0500 (Mon, 27 Jan 2025) EndedAt: 2025-01-27 16:40:49 -0500 (Mon, 27 Jan 2025) EllapsedTime: 46.6 seconds RetCode: 0 Status: OK