Package: tRanslatome Version: 1.44.0 Command: /Library/Frameworks/R.framework/Resources/bin/R CMD check --install=check:tRanslatome.install-out.txt --library=/Library/Frameworks/R.framework/Resources/library --no-vignettes --timings tRanslatome_1.44.0.tar.gz StartedAt: 2025-04-01 10:28:32 -0400 (Tue, 01 Apr 2025) EndedAt: 2025-04-01 10:38:58 -0400 (Tue, 01 Apr 2025) EllapsedTime: 625.5 seconds RetCode: 0 Status: OK CheckDir: tRanslatome.Rcheck Warnings: 0