Package: tRNAscanImport Version: 1.26.0 Command: chmod a+r tRNAscanImport -R && F:\biocbuild\bbs-3.20-bioc\R\bin\R.exe CMD build --keep-empty-dirs --no-resave-data tRNAscanImport StartedAt: 2025-01-30 22:24:56 -0500 (Thu, 30 Jan 2025) EndedAt: 2025-01-30 22:27:06 -0500 (Thu, 30 Jan 2025) EllapsedTime: 129.9 seconds RetCode: 0 Status: OK PackageFile: tRNAscanImport_1.26.0.tar.gz PackageFileSize: 455.9 KiB