Package: tRNAscanImport Version: 1.26.0 Command: /home/biocbuild/bbs-3.20-bioc/R/bin/R CMD check --install=check:tRNAscanImport.install-out.txt --library=/home/biocbuild/bbs-3.20-bioc/R/site-library --timings tRNAscanImport_1.26.0.tar.gz StartedAt: 2025-04-01 03:09:17 -0400 (Tue, 01 Apr 2025) EndedAt: 2025-04-01 03:14:41 -0400 (Tue, 01 Apr 2025) EllapsedTime: 323.4 seconds RetCode: 0 Status: OK CheckDir: tRNAscanImport.Rcheck Warnings: 0