Package: tRNAdbImport Version: 1.24.0 Command: rm -rf tRNAdbImport.buildbin-libdir && mkdir tRNAdbImport.buildbin-libdir && F:\biocbuild\bbs-3.20-bioc\R\bin\R.exe CMD INSTALL --build --library=tRNAdbImport.buildbin-libdir tRNAdbImport_1.24.0.tar.gz StartedAt: 2025-02-11 09:41:51 -0500 (Tue, 11 Feb 2025) EndedAt: 2025-02-11 09:42:37 -0500 (Tue, 11 Feb 2025) EllapsedTime: 46.9 seconds RetCode: 0 Status: OK PackageFile: tRNAdbImport_1.24.0.zip PackageFileSize: 381 KiB