Package: tRNAdbImport Version: 1.24.0 Command: /Library/Frameworks/R.framework/Resources/bin/R CMD INSTALL tRNAdbImport StartedAt: 2025-02-10 15:23:12 -0500 (Mon, 10 Feb 2025) EndedAt: 2025-02-10 15:23:45 -0500 (Mon, 10 Feb 2025) EllapsedTime: 32.8 seconds RetCode: 0 Status: OK