Package: tRNAdbImport Version: 1.24.0 Command: /Library/Frameworks/R.framework/Resources/bin/R CMD build --keep-empty-dirs --no-resave-data tRNAdbImport StartedAt: 2025-02-10 23:02:51 -0500 (Mon, 10 Feb 2025) EndedAt: 2025-02-10 23:03:57 -0500 (Mon, 10 Feb 2025) EllapsedTime: 65.5 seconds RetCode: 0 Status: OK PackageFile: tRNAdbImport_1.24.0.tar.gz PackageFileSize: 321.7 KiB