Package: tLOH Version: 1.14.0 Command: /home/biocbuild/R/R/bin/R CMD build --keep-empty-dirs --no-resave-data tLOH StartedAt: 2025-01-28 03:51:04 -0000 (Tue, 28 Jan 2025) EndedAt: 2025-01-28 03:52:30 -0000 (Tue, 28 Jan 2025) EllapsedTime: 86.0 seconds RetCode: 0 Status: OK PackageFile: tLOH_1.14.0.tar.gz PackageFileSize: 1.698 MiB