Package: systemPipeTools Version: 1.14.0 Command: chmod a+r systemPipeTools -R && F:\biocbuild\bbs-3.20-bioc\R\bin\R.exe CMD build --keep-empty-dirs --no-resave-data systemPipeTools StartedAt: 2025-03-31 22:17:26 -0400 (Mon, 31 Mar 2025) EndedAt: 2025-03-31 22:19:00 -0400 (Mon, 31 Mar 2025) EllapsedTime: 93.7 seconds RetCode: 0 Status: OK PackageFile: systemPipeTools_1.14.0.tar.gz PackageFileSize: 547.4 KiB