Package: systemPipeTools Version: 1.14.0 Command: rm -rf systemPipeTools.buildbin-libdir && mkdir systemPipeTools.buildbin-libdir && F:\biocbuild\bbs-3.20-bioc\R\bin\R.exe CMD INSTALL --build --library=systemPipeTools.buildbin-libdir systemPipeTools_1.14.0.tar.gz StartedAt: 2025-04-01 09:21:45 -0400 (Tue, 01 Apr 2025) EndedAt: 2025-04-01 09:22:26 -0400 (Tue, 01 Apr 2025) EllapsedTime: 41.6 seconds RetCode: 0 Status: OK PackageFile: systemPipeTools_1.14.0.zip PackageFileSize: 608.4 KiB