Package: systemPipeTools Version: 1.14.0 Command: /Library/Frameworks/R.framework/Resources/bin/R CMD INSTALL systemPipeTools StartedAt: 2025-02-03 17:55:26 -0500 (Mon, 03 Feb 2025) EndedAt: 2025-02-03 17:55:56 -0500 (Mon, 03 Feb 2025) EllapsedTime: 29.9 seconds RetCode: 0 Status: OK