Package: systemPipeTools Version: 1.14.0 Command: /Library/Frameworks/R.framework/Resources/bin/R CMD build --keep-empty-dirs --no-resave-data systemPipeTools StartedAt: 2025-04-01 09:02:03 -0400 (Tue, 01 Apr 2025) EndedAt: 2025-04-01 09:03:15 -0400 (Tue, 01 Apr 2025) EllapsedTime: 71.6 seconds RetCode: 0 Status: OK PackageFile: systemPipeTools_1.14.0.tar.gz PackageFileSize: 1004 KiB