Package: systemPipeTools Version: 1.14.0 Command: rm -rf systemPipeTools.buildbin-libdir && mkdir systemPipeTools.buildbin-libdir && /Users/biocbuild/BBS/utils/build-universal.sh systemPipeTools_1.14.0.tar.gz /Library/Frameworks/R.framework/Resources/bin/R systemPipeTools.buildbin-libdir StartedAt: 2025-02-05 18:03:50 -0500 (Wed, 05 Feb 2025) EndedAt: 2025-02-05 18:04:23 -0500 (Wed, 05 Feb 2025) EllapsedTime: 33.2 seconds RetCode: 0 Status: OK PackageFile: systemPipeTools_1.14.0.tgz PackageFileSize: 1.031 MiB