Package: systemPipeTools Version: 1.14.0 Maintainer: Daniela Cassol MaintainerEmail: danicassol at gmail.com git_url: https://git.bioconductor.org/packages/systemPipeTools git_branch: RELEASE_3_20 git_last_commit: eb8f7d2 git_last_commit_date: 2024-10-29 11:00:59 -0500 (Tue, 29 Oct 2024)