Package: systemPipeShiny Version: 1.16.0 Command: /home/biocbuild/R/R/bin/R CMD build --keep-empty-dirs --no-resave-data systemPipeShiny StartedAt: 2025-01-28 03:45:14 -0000 (Tue, 28 Jan 2025) EndedAt: 2025-01-28 03:45:50 -0000 (Tue, 28 Jan 2025) EllapsedTime: 36.0 seconds RetCode: 0 Status: OK PackageFile: systemPipeShiny_1.16.0.tar.gz PackageFileSize: 4.37 MiB