Package: systemPipeShiny Version: 1.16.0 Command: F:\biocbuild\bbs-3.20-bioc\R\bin\R.exe CMD INSTALL systemPipeShiny StartedAt: 2025-03-31 15:57:17 -0400 (Mon, 31 Mar 2025) EndedAt: 2025-03-31 15:58:26 -0400 (Mon, 31 Mar 2025) EllapsedTime: 68.4 seconds RetCode: 0 Status: OK