Package: systemPipeShiny Version: 1.16.0 Command: /Library/Frameworks/R.framework/Resources/bin/R CMD build --keep-empty-dirs --no-resave-data systemPipeShiny StartedAt: 2025-04-01 09:01:34 -0400 (Tue, 01 Apr 2025) EndedAt: 2025-04-01 09:02:03 -0400 (Tue, 01 Apr 2025) EllapsedTime: 29.3 seconds RetCode: 0 Status: OK PackageFile: systemPipeShiny_1.16.0.tar.gz PackageFileSize: 4.307 MiB