Package: syntenet Version: 1.8.1 Command: /home/biocbuild/R/R/bin/R CMD INSTALL syntenet StartedAt: 2025-03-31 20:50:06 -0000 (Mon, 31 Mar 2025) EndedAt: 2025-03-31 20:51:27 -0000 (Mon, 31 Mar 2025) EllapsedTime: 81.5 seconds RetCode: 0 Status: OK