Package: syntenet Version: 1.8.1 Command: /home/biocbuild/R/R/bin/R CMD check --install=check:syntenet.install-out.txt --library=/home/biocbuild/R/R/site-library --no-vignettes --timings syntenet_1.8.1.tar.gz StartedAt: 2025-01-28 11:47:53 -0000 (Tue, 28 Jan 2025) EndedAt: 2025-01-28 11:53:17 -0000 (Tue, 28 Jan 2025) EllapsedTime: 323.5 seconds RetCode: 0 Status: OK CheckDir: syntenet.Rcheck Warnings: 0